BEGIN:VCALENDAR
PRODID:-//www.osteopathsnz.co.nz//EN
VERSION:2.0
METHOD:PUBLISH
BEGIN:VEVENT
DTSTART;TZID=Pacific/Auckland:20190203T
DTEND;TZID=Pacific/Auckland:20190204T
URL:https://www.osteopathsnz.co.nz/for-osteopaths/cpd-and-events/paediatric-manual-medicine-course/
SUMMARY:Paediatric Manual Medicine Course
END:VEVENT
END:VCALENDAR