BEGIN:VCALENDAR
PRODID:-//www.osteopathsnz.co.nz//EN
VERSION:2.0
METHOD:PUBLISH
BEGIN:VEVENT
DTSTART;TZID=Pacific/Auckland:20190412T
DTEND;TZID=Pacific/Auckland:20190413T
URL:https://www.osteopathsnz.co.nz/for-osteopaths/cpd-and-events/the-fundamentals-myofascial-release-course-3/
SUMMARY:The Fundamentals - Myofascial Release Course
END:VEVENT
END:VCALENDAR