BEGIN:VCALENDAR
PRODID:-//www.osteopathsnz.co.nz//EN
VERSION:2.0
METHOD:PUBLISH
BEGIN:VEVENT
DTSTART;TZID=Pacific/Auckland:20200307T
DTEND;TZID=Pacific/Auckland:20200308T
URL:https://www.osteopathsnz.co.nz/for-osteopaths/cpd-and-events/australasian-toyohari-meridian-therapy-program-2020/
SUMMARY:Australasian Toyohari Meridian Therapy Program 2020
END:VEVENT
END:VCALENDAR