BEGIN:VCALENDAR
PRODID:-//www.osteopathsnz.co.nz//EN
VERSION:2.0
METHOD:PUBLISH
BEGIN:VEVENT
DTSTART;TZID=Pacific/Auckland:20200522T
DTEND;TZID=Pacific/Auckland:20200523T
URL:https://www.osteopathsnz.co.nz/for-osteopaths/cpd-and-events/advanced-upper-body-myofascial-release-course-3/
SUMMARY:Advanced Upper Body - Myofascial Release Course
END:VEVENT
END:VCALENDAR