BEGIN:VCALENDAR
PRODID:-//www.osteopathsnz.co.nz//EN
VERSION:2.0
METHOD:PUBLISH
BEGIN:VEVENT
DTSTART;TZID=Pacific/Auckland:20190405T
DTEND;TZID=Pacific/Auckland:20190407T
URL:https://www.osteopathsnz.co.nz/index.php/for-osteopaths/cpd-and-events/the-strait-method-scar-tissue-release-seminar-the-foundation-course/
SUMMARY:The STRAIT Method Scar Tissue Release Seminar - The Foundation Course
END:VEVENT
END:VCALENDAR