BEGIN:VCALENDAR
PRODID:-//www.osteopathsnz.co.nz//EN
VERSION:2.0
METHOD:PUBLISH
BEGIN:VEVENT
DTSTART;TZID=Pacific/Auckland:20191004T
DTEND;TZID=Pacific/Auckland:20191005T
URL:https://www.osteopathsnz.co.nz/index.php/for-osteopaths/cpd-and-events/the-fundamentals-myofascial-release-course-3/
SUMMARY:The Fundamentals - Myofascial Release Course
END:VEVENT
END:VCALENDAR