BEGIN:VCALENDAR
PRODID:-//www.osteopathsnz.co.nz//EN
VERSION:2.0
METHOD:PUBLISH
BEGIN:VEVENT
DTSTART;TZID=Pacific/Auckland:20190310T
DTEND;TZID=Pacific/Auckland:20190311T
URL:https://www.osteopathsnz.co.nz/index.php/for-osteopaths/cpd-and-events/advanced-upper-body-myofascial-release-course-2/
SUMMARY:Advanced Upper Body - Myofascial Release Course
END:VEVENT
END:VCALENDAR