BEGIN:VCALENDAR
PRODID:-//www.osteopathsnz.co.nz//EN
VERSION:2.0
METHOD:PUBLISH
BEGIN:VEVENT
DTSTART;TZID=Pacific/Auckland:20190217T
DTEND;TZID=Pacific/Auckland:20190218T
URL:https://www.osteopathsnz.co.nz/index.php/for-osteopaths/cpd-and-events/advanced-lower-body-myofascial-release-course-2/
SUMMARY:Advanced Lower Body - Myofascial Release Course
END:VEVENT
END:VCALENDAR